BEGIN:VCALENDAR
VERSION:2.0
PRODID:-//Birmingham Canal Navigations Society - ECPv6.15.13//NONSGML v1.0//EN
CALSCALE:GREGORIAN
METHOD:PUBLISH
X-WR-CALNAME:Birmingham Canal Navigations Society
X-ORIGINAL-URL:https://bcnsociety.com
X-WR-CALDESC:Events for Birmingham Canal Navigations Society
REFRESH-INTERVAL;VALUE=DURATION:PT1H
X-Robots-Tag:noindex
X-PUBLISHED-TTL:PT1H
BEGIN:VTIMEZONE
TZID:Europe/London
BEGIN:DAYLIGHT
TZOFFSETFROM:+0000
TZOFFSETTO:+0100
TZNAME:BST
DTSTART:20250330T010000
END:DAYLIGHT
BEGIN:STANDARD
TZOFFSETFROM:+0100
TZOFFSETTO:+0000
TZNAME:GMT
DTSTART:20251026T010000
END:STANDARD
BEGIN:DAYLIGHT
TZOFFSETFROM:+0000
TZOFFSETTO:+0100
TZNAME:BST
DTSTART:20260329T010000
END:DAYLIGHT
BEGIN:STANDARD
TZOFFSETFROM:+0100
TZOFFSETTO:+0000
TZNAME:GMT
DTSTART:20261025T010000
END:STANDARD
BEGIN:DAYLIGHT
TZOFFSETFROM:+0000
TZOFFSETTO:+0100
TZNAME:BST
DTSTART:20270328T010000
END:DAYLIGHT
BEGIN:STANDARD
TZOFFSETFROM:+0100
TZOFFSETTO:+0000
TZNAME:GMT
DTSTART:20271031T010000
END:STANDARD
END:VTIMEZONE
BEGIN:VEVENT
DTSTART;TZID=Europe/London:20260717T080000
DTEND;TZID=Europe/London:20260719T170000
DTSTAMP:20260426T023713
CREATED:20260220T160748Z
LAST-MODIFIED:20260220T160748Z
UID:10000115-1784275200-1784480400@bcnsociety.com
SUMMARY:Gnosall Cfest Canal Festival 17th-19th July 2026
DESCRIPTION:GFest 2026 is also delighted to include CFest\, Gnosall’s very own unique festival of boats\, set on the tranquil canal water that runs through our village. \nThis 3-day community festival celebrates everything about our waterways. Take a boat trip\, browse and shop at the moored boats selling gifts\, souvenirs and gourmet food. Learn about our local canals and why they are so important to our community’s history and heritage\, and explore historic working boats that are open to the public. \nOrganised by Gnosall Towpath Restoration group\, and in association with Gnosall Parish Council\, there’s so much to explore. Festival garden music\, entertainment and refreshments are available throughout the weekend. \nWebsite link – http://www.gnosallcanalfestival.co.uk
URL:https://bcnsociety.com/event/gnosall-cfest-canal-festival-17th-19th-july-2026/
LOCATION:West Midlands
CATEGORIES:Non BCNS events
END:VEVENT
END:VCALENDAR