BEGIN:VCALENDAR
VERSION:2.0
PRODID:-//Birmingham Canal Navigations Society - ECPv6.15.13//NONSGML v1.0//EN
CALSCALE:GREGORIAN
METHOD:PUBLISH
X-ORIGINAL-URL:https://bcnsociety.com
X-WR-CALDESC:Events for Birmingham Canal Navigations Society
REFRESH-INTERVAL;VALUE=DURATION:PT1H
X-Robots-Tag:noindex
X-PUBLISHED-TTL:PT1H
BEGIN:VTIMEZONE
TZID:Europe/London
BEGIN:DAYLIGHT
TZOFFSETFROM:+0000
TZOFFSETTO:+0100
TZNAME:BST
DTSTART:20250330T010000
END:DAYLIGHT
BEGIN:STANDARD
TZOFFSETFROM:+0100
TZOFFSETTO:+0000
TZNAME:GMT
DTSTART:20251026T010000
END:STANDARD
BEGIN:DAYLIGHT
TZOFFSETFROM:+0000
TZOFFSETTO:+0100
TZNAME:BST
DTSTART:20260329T010000
END:DAYLIGHT
BEGIN:STANDARD
TZOFFSETFROM:+0100
TZOFFSETTO:+0000
TZNAME:GMT
DTSTART:20261025T010000
END:STANDARD
BEGIN:DAYLIGHT
TZOFFSETFROM:+0000
TZOFFSETTO:+0100
TZNAME:BST
DTSTART:20270328T010000
END:DAYLIGHT
BEGIN:STANDARD
TZOFFSETFROM:+0100
TZOFFSETTO:+0000
TZNAME:GMT
DTSTART:20271031T010000
END:STANDARD
END:VTIMEZONE
BEGIN:VEVENT
DTSTART;TZID=Europe/London:20261017T080000
DTEND;TZID=Europe/London:20261018T170000
DTSTAMP:20260425T193526
CREATED:20260220T172710Z
LAST-MODIFIED:20260220T173116Z
UID:10000118-1792224000-1792342800@bcnsociety.com
SUMMARY:Open Weekend at the Bonded Warehouse - Stourbridge - 17-18th October 2026
DESCRIPTION:  \nThe annual event at the Bonded Warehouse is scheduled to take place on the 17th and 18th October 2026 \n\nOpen Weekend at The Bonded Warehouse – 17th / 18th October 2026 \n\n\nSNT OPEN WEEKEND 2026 – Boater’s Entry Form
URL:https://bcnsociety.com/event/open-weekend-at-the-bonded-warehouse-stourbridge-17-18th-october-2026/
LOCATION:Bonded Warehouse Stourbridge\, Canal Street\, Stourbridge\, DY8 4LU\, United Kingdom
CATEGORIES:Non BCNS events
END:VEVENT
END:VCALENDAR