BEGIN:VCALENDAR
VERSION:2.0
PRODID:-//Birmingham Canal Navigations Society - ECPv6.15.13//NONSGML v1.0//EN
CALSCALE:GREGORIAN
METHOD:PUBLISH
X-ORIGINAL-URL:https://bcnsociety.com
X-WR-CALDESC:Events for Birmingham Canal Navigations Society
REFRESH-INTERVAL;VALUE=DURATION:PT1H
X-Robots-Tag:noindex
X-PUBLISHED-TTL:PT1H
BEGIN:VTIMEZONE
TZID:Europe/London
BEGIN:DAYLIGHT
TZOFFSETFROM:+0000
TZOFFSETTO:+0100
TZNAME:BST
DTSTART:20250330T010000
END:DAYLIGHT
BEGIN:STANDARD
TZOFFSETFROM:+0100
TZOFFSETTO:+0000
TZNAME:GMT
DTSTART:20251026T010000
END:STANDARD
BEGIN:DAYLIGHT
TZOFFSETFROM:+0000
TZOFFSETTO:+0100
TZNAME:BST
DTSTART:20260329T010000
END:DAYLIGHT
BEGIN:STANDARD
TZOFFSETFROM:+0100
TZOFFSETTO:+0000
TZNAME:GMT
DTSTART:20261025T010000
END:STANDARD
BEGIN:DAYLIGHT
TZOFFSETFROM:+0000
TZOFFSETTO:+0100
TZNAME:BST
DTSTART:20270328T010000
END:DAYLIGHT
BEGIN:STANDARD
TZOFFSETFROM:+0100
TZOFFSETTO:+0000
TZNAME:GMT
DTSTART:20271031T010000
END:STANDARD
END:VTIMEZONE
BEGIN:VEVENT
DTSTART;TZID=Europe/London:20260815T080000
DTEND;TZID=Europe/London:20260816T170000
DTSTAMP:20260425T143059
CREATED:20260220T161636Z
LAST-MODIFIED:20260220T173231Z
UID:10000117-1786780800-1786899600@bcnsociety.com
SUMMARY:Brownhills Canal Festival – 15-16th August 2026
DESCRIPTION:The Brownhills Canal Festival is held on the third weekend of August each year\, on the Wyrley and Essington Canal at Silver Street. \nThe festival has floating traders\, historic narrowboats\, land traders and lots more. \nIt is organised by the Lichfield & Hatherton Canals Restoration Trust \nFurther details can be found at the LHCRT website –LHCRT
URL:https://bcnsociety.com/event/brownhills-canal-festival-15-16th-august-2026/
LOCATION:Silver Street Moorings\, Brownhills\, Silver Street\, Brownhills\, WS8 6DZ\, United Kingdom
CATEGORIES:Non BCNS events
END:VEVENT
END:VCALENDAR